View In:
ArcGIS JavaScript
ArcGIS Online Map Viewer
ArcGIS Earth
ArcMap
View Footprint In:
ArcGIS Online Map Viewer
Service Description: Flyover Imagery provided by MrCOG, done 10/2021
Name: Valencia_County_2020_MrCOG
Description: Flyover Imagery provided by MrCOG, done 10/2021
Single Fused Map Cache: false
Extent:
XMin: 1351293.000000552
YMin: 1249212.999977
XMax: 1594843.000000552
YMax: 1443850.499977
Spatial Reference: 2903
(2903)
Initial Extent:
XMin: 1351293.000000552
YMin: 1249212.999977
XMax: 1594843.000000552
YMax: 1443850.499977
Spatial Reference: 2903
(2903)
Full Extent:
XMin: 1351293.000000552
YMin: 1249212.999977
XMax: 1594843.000000552
YMax: 1443850.499977
Spatial Reference: 2903
(2903)
Pixel Size X: 0.5
Pixel Size Y: 0.5
Band Count: 4
Pixel Type: U8
RasterFunction Infos: {"name":"None","description":"","help":""}
Mensuration Capabilities: Basic
Has Histograms: true
Has Colormap: false
Has Multi Dimensions : false
Rendering Rule:
Min Scale: 0
Max Scale: 0
Copyright Text:
Service Data Type: esriImageServiceDataTypeGeneric
Min Values: 51, 47, 32, 255
Max Values: 255, 255, 255, 255
Mean Values: 175.18437499999996, 166.47743055555566, 150.24479166666683, 255
Standard Deviation Values: 59.75274022329614, 65.07225293265394, 77.07446890894212, 0
Object ID Field:
Fields:
None
Default Mosaic Method: Center
Allowed Mosaic Methods:
SortField:
SortValue: null
Mosaic Operator: First
Default Compression Quality: 75
Default Resampling Method: Bilinear
Max Record Count: null
Max Image Height: 4100
Max Image Width: 15000
Max Download Image Count: null
Max Mosaic Image Count: null
Allow Raster Function: true
Allow Compute TiePoints: false
Supports Statistics: false
Supports Advanced Queries: false
Use StandardizedQueries: true
Raster Type Infos:
Name: Raster Dataset
Description: Supports all ArcGIS Raster Datasets
Help:
Has Raster Attribute Table: false
Edit Fields Info: null
Ownership Based AccessControl For Rasters: null
Child Resources:
Info
Histograms
Key Properties
Legend
MultiDimensionalInfo
rasterFunctionInfos
Supported Operations:
Export Image
Identify
Measure
Compute Histograms
Compute Statistics Histograms
Get Samples
Compute Class Statistics
Query Boundary