{
 "currentVersion": 10.6,
 "serviceDescription": "Flyover Imagery provided by MrCOG, done 10/2021",
 "name": "Valencia_County_2020_MrCOG",
 "description": "Flyover Imagery provided by MrCOG, done 10/2021",
 "extent": {
  "xmin": 1351293.000000552,
  "ymin": 1249212.999977,
  "xmax": 1594843.000000552,
  "ymax": 1443850.499977,
  "spatialReference": {
   "wkid": 2903,
   "latestWkid": 2903
  }
 },
 "initialExtent": {
  "xmin": 1351293.000000552,
  "ymin": 1249212.999977,
  "xmax": 1594843.000000552,
  "ymax": 1443850.499977,
  "spatialReference": {
   "wkid": 2903,
   "latestWkid": 2903
  }
 },
 "fullExtent": {
  "xmin": 1351293.000000552,
  "ymin": 1249212.999977,
  "xmax": 1594843.000000552,
  "ymax": 1443850.499977,
  "spatialReference": {
   "wkid": 2903,
   "latestWkid": 2903
  }
 },
 "pixelSizeX": 0.5,
 "pixelSizeY": 0.5,
 "bandCount": 4,
 "pixelType": "U8",
 "minPixelSize": 0,
 "maxPixelSize": 0,
 "copyrightText": "",
 "serviceDataType": "esriImageServiceDataTypeGeneric",
 "minValues": [
  51,
  47,
  32,
  255
 ],
 "maxValues": [
  255,
  255,
  255,
  255
 ],
 "meanValues": [
  175.18437499999996,
  166.47743055555566,
  150.24479166666683,
  255
 ],
 "stdvValues": [
  59.75274022329614,
  65.07225293265394,
  77.07446890894212,
  0
 ],
 "objectIdField": "",
 "fields": [],
 "capabilities": "Image,Metadata,Mensuration",
 "defaultMosaicMethod": "Center",
 "allowedMosaicMethods": "",
 "sortField": "",
 "sortValue": null,
 "mosaicOperator": "First",
 "defaultCompressionQuality": 75,
 "defaultResamplingMethod": "Bilinear",
 "maxImageHeight": 4100,
 "maxImageWidth": 15000,
 "allowRasterFunction": true,
 "rasterFunctionInfos": [
  {
   "name": "None",
   "description": "",
   "help": ""
  }
 ],
 "rasterTypeInfos": [
  {
   "name": "Raster Dataset",
   "description": "Supports all ArcGIS Raster Datasets",
   "help": ""
  }
 ],
 "mensurationCapabilities": "Basic",
 "hasHistograms": true,
 "hasColormap": false,
 "hasRasterAttributeTable": false,
 "minScale": 0,
 "maxScale": 0,
 "exportTilesAllowed": false,
 "hasMultidimensions": false,
 "supportsStatistics": false,
 "supportsAdvancedQueries": false,
 "editFieldsInfo": null,
 "ownershipBasedAccessControlForRasters": null,
 "allowComputeTiePoints": false,
 "useStandardizedQueries": true,
 "advancedQueryCapabilities": {
  "useStandardizedQueries": true,
  "supportsStatistics": false,
  "supportsOrderBy": false,
  "supportsDistinct": false,
  "supportsPagination": false
 },
 "spatialReference": {
  "wkid": 2903,
  "latestWkid": 2903
 }
}
