{
 "currentVersion": 10.6,
 "serviceDescription": "Flyover Imagery provided by MrCOG, 2024",
 "name": "Valencia_County_2024_MrCOG",
 "description": "Flyover Imagery provided by MrCOG, 2024",
 "extent": {
  "xmin": 1353174,
  "ymin": 1249213,
  "xmax": 1592351,
  "ymax": 1441330,
  "spatialReference": {
   "wkid": 2903,
   "latestWkid": 2903
  }
 },
 "initialExtent": {
  "xmin": 1353174,
  "ymin": 1249213,
  "xmax": 1592351,
  "ymax": 1441330,
  "spatialReference": {
   "wkid": 2903,
   "latestWkid": 2903
  }
 },
 "fullExtent": {
  "xmin": 1353174,
  "ymin": 1249213,
  "xmax": 1592351,
  "ymax": 1441330,
  "spatialReference": {
   "wkid": 2903,
   "latestWkid": 2903
  }
 },
 "pixelSizeX": 0.5,
 "pixelSizeY": 0.5,
 "bandCount": 5,
 "pixelType": "U8",
 "minPixelSize": 0,
 "maxPixelSize": 0,
 "copyrightText": "",
 "serviceDataType": "esriImageServiceDataTypeGeneric",
 "minValues": [
  0,
  0,
  0,
  0,
  0
 ],
 "maxValues": [
  255,
  255,
  255,
  255,
  255
 ],
 "meanValues": [
  86.586671603637,
  77.382296688195,
  62.837099909568,
  93.196663272499,
  168.67044867093
 ],
 "stdvValues": [
  64.813591760146,
  57.339378163955,
  46.318920030732,
  68.102405142719,
  120.52003712169
 ],
 "objectIdField": "",
 "fields": [],
 "capabilities": "Image,Metadata,Mensuration",
 "defaultMosaicMethod": "Center",
 "allowedMosaicMethods": "",
 "sortField": "",
 "sortValue": null,
 "mosaicOperator": "First",
 "defaultCompressionQuality": 75,
 "defaultResamplingMethod": "Bilinear",
 "maxImageHeight": 4100,
 "maxImageWidth": 15000,
 "allowRasterFunction": true,
 "rasterFunctionInfos": [
  {
   "name": "None",
   "description": "",
   "help": ""
  }
 ],
 "rasterTypeInfos": [
  {
   "name": "Raster Dataset",
   "description": "Supports all ArcGIS Raster Datasets",
   "help": ""
  }
 ],
 "mensurationCapabilities": "Basic",
 "hasHistograms": true,
 "hasColormap": false,
 "hasRasterAttributeTable": false,
 "minScale": 0,
 "maxScale": 0,
 "exportTilesAllowed": false,
 "hasMultidimensions": false,
 "supportsStatistics": false,
 "supportsAdvancedQueries": false,
 "editFieldsInfo": null,
 "ownershipBasedAccessControlForRasters": null,
 "allowComputeTiePoints": false,
 "useStandardizedQueries": true,
 "advancedQueryCapabilities": {
  "useStandardizedQueries": true,
  "supportsStatistics": false,
  "supportsOrderBy": false,
  "supportsDistinct": false,
  "supportsPagination": false
 },
 "spatialReference": {
  "wkid": 2903,
  "latestWkid": 2903
 }
}